Workbook

Sheet START
A1: Kalkulator Allegro XL - na podstawie regulaminu i jego załączników z dnia 30.09.2026 roku
A2: Wersja dla Partnerów | Allegro XL SUUS Logistics
A4: Jak używać pliku
A5: 1. | B5: W celu wyliczenia kosztów przesyłki luzem / AGD przejdź do zakładki KALKULATOR PACZKI.
A6: 2. | B6: Wpisz zewnętrzne wymiary i wagę brutto po zapakowaniu. Przy wielu paczkach wpisz każdą paczkę - kalkulator zsumuje wagę i objętość.
A7: 3. | B7: W celu wyliczenia kosztów przesyłki na palecie użyj zakładki KALKULATOR PALETY. Kalkulator zawiera limity regulaminowe, ale nie zastępuje potwierdzenia transportu.
A8: 4. | B8: Należy wybrać odpowiedni sposób rozliczenia zamówienia - w ramach programu i promocji Smart! lub w ramach przesyłki poza Smart!
A9: 5. | B9: Jeżeli zamiast wyniku pokaże się komunikat NIE WYCENIAJ albo POZA CENNIKIEM skontaktuj się z Allegro.
A12: Załącznik nr 4 do Regulaminu podaje opłaty dla usług Allegro XL SUUS świadczonych poza Allegro Smart!. Dla przesyłek wielopaczkowych i mixów paczek/palet koszt ustala się na podstawie sumy rzeczywistych wag i objętości wraz z opakowaniem.
A17: Plik nie obejmuje automatycznie usług dodatkowych, pobrania, slotów godzinowych, ubezpieczenia, pustego podjazdu, korekty wymiarów ani kar.

Sheet KALKULATOR PACZKI
A1: KALKULATOR PACZKI / AGD
A2: Wpisz dane po zapakowaniu. Kalkulator sumuje wagę i objętość wszystkich jednostek jednej przesyłki.
A5: Typ przesyłki | B5: Podatna na przeładunek mechaniczny
A6: Sposób rozliczenia | B6: poza Smart!
A7: Limit AGD użyty w kalkulatorze | B7: 215 cm wysokości / 168 kg na jednostkę
A8: Długość | B8: wpisz najdłuższy bok (cm)
A11: Jednostka | B11: Długość / najdłuższy bok (cm) | C11: Szerokość (cm) | D11: Wysokość (cm) | E11: Waga brutto (kg) | F11: Objętość (m³) | G11: Status limitów | H11: Błędy
A12: 1 | B12: 60 | C12: 65 | D12: 90 | E12: 70 | F12: =IF(COUNT(B12:E12)<4,"",B12*C12*D12/1000000) -> 0.351 | G12: =IF(COUNT(B12:E12)=0,"—",IF(COUNT(B12:E12)<4,"Uzupełnij wiersz",IF($B$5="Podatna na przeładunek mechaniczny",IF(OR(B12>230,D12>215,E12>168),"NIEZGODNA — limit","OK"),IF($B$5="Automotive",IF(OR(B12>230,E12>30),"NIEZGODNA — limit Automotive","OK"),IF(OR(B12>230,E12>50),"NIEZGODNA — limit standard","OK"))))) -> OK | H12: =IF(OR(G12="NIEZGODNA — limit",G12="NIEZGODNA — limit Automotive",G12="NIEZGODNA — limit standard",G12="Uzupełnij wiersz"),1,0) -> 0
A13: 2 | F13: =IF(COUNT(B13:E13)<4,"",B13*C13*D13/1000000) | G13: =IF(COUNT(B13:E13)=0,"—",IF(COUNT(B13:E13)<4,"Uzupełnij wiersz",IF($B$5="Podatna na przeładunek mechaniczny",IF(OR(B13>230,D13>215,E13>168),"NIEZGODNA — limit","OK"),IF($B$5="Automotive",IF(OR(B13>230,E13>30),"NIEZGODNA — limit Automotive","OK"),IF(OR(B13>230,E13>50),"NIEZGODNA — limit standard","OK"))))) -> — | H13: =IF(OR(G13="NIEZGODNA — limit",G13="NIEZGODNA — limit Automotive",G13="NIEZGODNA — limit standard",G13="Uzupełnij wiersz"),1,0) -> 0
A14: 3 | F14: =IF(COUNT(B14:E14)<4,"",B14*C14*D14/1000000) | G14: =IF(COUNT(B14:E14)=0,"—",IF(COUNT(B14:E14)<4,"Uzupełnij wiersz",IF($B$5="Podatna na przeładunek mechaniczny",IF(OR(B14>230,D14>215,E14>168),"NIEZGODNA — limit","OK"),IF($B$5="Automotive",IF(OR(B14>230,E14>30),"NIEZGODNA — limit Automotive","OK"),IF(OR(B14>230,E14>50),"NIEZGODNA — limit standard","OK"))))) -> — | H14: =IF(OR(G14="NIEZGODNA — limit",G14="NIEZGODNA — limit Automotive",G14="NIEZGODNA — limit standard",G14="Uzupełnij wiersz"),1,0) -> 0
A15: 4 | F15: =IF(COUNT(B15:E15)<4,"",B15*C15*D15/1000000) | G15: =IF(COUNT(B15:E15)=0,"—",IF(COUNT(B15:E15)<4,"Uzupełnij wiersz",IF($B$5="Podatna na przeładunek mechaniczny",IF(OR(B15>230,D15>215,E15>168),"NIEZGODNA — limit","OK"),IF($B$5="Automotive",IF(OR(B15>230,E15>30),"NIEZGODNA — limit Automotive","OK"),IF(OR(B15>230,E15>50),"NIEZGODNA — limit standard","OK"))))) -> — | H15: =IF(OR(G15="NIEZGODNA — limit",G15="NIEZGODNA — limit Automotive",G15="NIEZGODNA — limit standard",G15="Uzupełnij wiersz"),1,0) -> 0
A16: 5 | F16: =IF(COUNT(B16:E16)<4,"",B16*C16*D16/1000000) | G16: =IF(COUNT(B16:E16)=0,"—",IF(COUNT(B16:E16)<4,"Uzupełnij wiersz",IF($B$5="Podatna na przeładunek mechaniczny",IF(OR(B16>230,D16>215,E16>168),"NIEZGODNA — limit","OK"),IF($B$5="Automotive",IF(OR(B16>230,E16>30),"NIEZGODNA — limit Automotive","OK"),IF(OR(B16>230,E16>50),"NIEZGODNA — limit standard","OK"))))) -> — | H16: =IF(OR(G16="NIEZGODNA — limit",G16="NIEZGODNA — limit Automotive",G16="NIEZGODNA — limit standard",G16="Uzupełnij wiersz"),1,0) -> 0
A19: WYNIK
A20: Suma objętości (m³) | B20: =SUM(F12:F16) -> 0.351 | D20: Przykład: pralka 60×65×90 cm, 70 kg = 0,351 m³. Kalkulator wybiera próg do 0,4 m³ / do 75 kg. Wynik: 169,98 zł brutto dla paczki poza Smart! lub 84,98 zł brutto w ramach Smart!.
A21: Suma wagi brutto (kg) | B21: =SUM(E12:E16) -> 70
A22: Liczba jednostek | B22: =COUNT(E12:E16) -> 1
A23: Wybrany próg objętości | B23: =IF(B20=0,"",IF(B20<=0.2,0.2,IF(B20<=0.4,0.4,IF(B20<=0.6,0.6,IF(B20<=0.8,0.8,IF(B20<=1,1,IF(B20<=1.5,1.5,IF(B20<=2,2,IF(B20<=2.5,2.5,IF(B20<=3,3,IF(B20<=3.5,3.5,"POZA CENNIKIEM"))))))))))) -> 0.4
A24: Wybrany próg wagi | B24: =IF(B21=0,"",IF(B21<=31.5,31.5,IF(B21<=50,50,IF(B21<=75,75,IF(B21<=100,100,IF(B21<=125,125,IF(B21<=150,150,IF(B21<=175,175,IF(B21<=200,200,IF(B21<=250,250,IF(B21<=300,300,"POZA CENNIKIEM"))))))))))) -> 75
A25: Czy zgodne z regulaminem? | B25: =IF(COUNT(E12:E16)=0,"Wpisz dane",IF(SUM(H12:H16)>0,"Ssprawdź limit jednostki",IF(OR(B23="POZA CENNIKIEM",B24="POZA CENNIKIEM"),"POZA CENNIKIEM","OK"))) -> OK
A26: Opłata brutto poza Smart! | B26: {=IFERROR(INDEX('CENNIK PACZKI'!$B$6:$K$15,MATCH(B23,'CENNIK PACZKI'!$A$6:$A$15,0),MATCH(B24,'CENNIK PACZKI'!$B$5:$K$5,0)),"POZA CENNIKIEM")} -> 169.98 | D26: Zasada przy nadawaniu zamówień złożonych z wielu paczek: zsumuj rzeczywiste wagi i objętości wszystkich paczek/palet wraz z opakowaniem i wybierz jeden próg. Nie dodawaj osobno cen z kolejnych wierszy.
A27: Opłata brutto Smart! | B27: {=IFERROR(INDEX('CENNIK PACZKI'!$N$6:$W$15,MATCH(B23,'CENNIK PACZKI'!$M$6:$M$15,0),MATCH(B24,'CENNIK PACZKI'!$N$5:$W$5,0)),"POZA CENNIKIEM")} -> 84.98
A28: Kwota do wpisania | B28: =IF(B25="OK",IF(B6="Smart!",B27,B26),"NIEZGODNOŚĆ") -> 169.98
A29: w tym opłata podstawowa brutto | B29: =IF(B25="OK",IF(B6="Smart!",'CENNIK PACZKI'!$N$6, 'CENNIK PACZKI'!$B$6),"-") -> 119.99
A30: w tym dopłata do wagi brutto | B30: =IFERROR(B28-B29, "-") -> 49.99

Sheet KALKULATOR PALETY
A1: KALKULATOR PALETY
A2: Wynik jest stawką dla jednej jednostki paletowej. Przy więcej niż jednej palecie potwierdź sposób rozliczenia całego zlecenia.
A5: Typ palety | B5: IP XL (paleta przemysłowa) | D5: Maksymalne wymiary przesyłki: - wysokość max 215 cm, - najdłuższy bok max 240 cm, - towar nie może wystawać poza obrys palety, - masa jednostki nie może przekraczać nośności danego typu palety i nie może być wyższa, niż 750 kg.
A6: Masa brutto palety (kg) | B6: 100
A7: Wysokość jednostki (cm) | B7: 100
A8: Najdłuższy bok (cm) | B8: 120
A9: Liczba jednostek w zleceniu | B9: 1
A10: Sposób rozliczenia | B10: poza Smart!
A11: Maks. nośność wybranego typu (kg) | B11: =IF(B5="HP (półpaleta)",500,IF(B5="EUR (paleta)",1000,IF(B5="IP (paleta przemysłowa)",1000,IF(B5="IP XL (paleta przemysłowa)",1000,IF(B5="LP (paleta long)",700,700))))) -> 1000
A14: WYNIK
A15: Czy zgodne z regulaminem? | B15: =IF(OR(B5="",B6="",B7="",B8="",B9=""),"Uzupełnij dane",IF(B6>B11,"Limit masy palety",IF(OR(B7>215,B8>240),"Limit wymiarów",IF(B6*B9>5000,"Suma > 5000 kg",IF(B6>750,"Waga powyżej limitu","OK"))))) -> OK
A16: Rozmiar palety | B16: {=IFERROR(INDEX('CENNIK PALETY'!$B$5:$B$11,MATCH(B5,'CENNIK PALETY'!$A$5:$A$11,0)),"")} -> 120x120
A17: Łączna masa zlecenia (kg) | B17: =B6*B9 -> 100
A18: Standard — opłata brutto poza Smart! | B18: {=IFERROR(INDEX('CENNIK PALETY'!$D$6:$O$11,MATCH(B5,'CENNIK PALETY'!$A$6:$A$11,0),IF(B6<=60,1,IF(B6<=100,2,IF(B6<=150,3,IF(B6<=200,4,IF(B6<=250,5,IF(B6<=300,6,IF(B6<=400,7,IF(B6<=500,8,IF(B6<=600,9,IF(B6<=700,10,IF(B6<=800,11,IF(B6<=1000,12,99))))))))))))),"POZA CENNIKIEM")} -> 259.98
A19: Opłata brutto Smart! | B19: {=IFERROR(INDEX('CENNIK PALETY'!$T$6:$AE$11,MATCH(B5,'CENNIK PALETY'!$Q$6:$Q$11,0),IF(B6<=60,1,IF(B6<=100,2,IF(B6<=150,3,IF(B6<=200,4,IF(B6<=250,5,IF(B6<=300,6,IF(B6<=400,7,IF(B6<=500,8,IF(B6<=600,9,IF(B6<=700,10,IF(B6<=800,11,IF(B6<=1000,12,99))))))))))))),"POZA CENNIKIEM")} -> 129.98
A20: Kwota do wpisania | B20: =IF(B15="OK",IF(B10="Smart!",B19,B18),"NIEZGODNOŚĆ") -> 259.98
A21: w tym opłata podstawowa brutto | B21: =IF(B15="OK",IF(B10="Smart!",'CENNIK PALETY'!$T$6, 'CENNIK PALETY'!$D$6),"-") -> 119.99
A22: w tym dopłata do wagi brutto | B22: =IFERROR(B20-B21, "-") -> 139.99
A23: UWAGA - Przy wysyłce wielu palet w ramach jednego listu przewozowego zastosuj kalkulator dla paczek

Sheet CENNIK PACZKI
A1: Cennik paczki Heavy & Bulky — kwoty brutto
A2: Standard = baza 119,99 zł brutto + regulaminowa dopłata gabarytowa. Smart! = wewnętrzna stawka rozliczeniowa, nie wynikająca z tego dokumentu regulaminowego.
A4: poza Smart! brutto | M4: Smart! brutto
A5: Maks. objętość (m³) | B5: 31.5 | C5: 50 | D5: 75 | E5: 100 | F5: 125 | G5: 150 | H5: 175 | I5: 200 | J5: 250 | K5: 300 | M5: Maks. objętość (m³) | N5: 31.5 | O5: 50 | P5: 75 | Q5: 100 | R5: 125 | S5: 150 | T5: 175 | U5: 200 | V5: 250 | W5: 300
A6: 0.2 | B6: 119.99 | C6: 139.98 | D6: 139.98 | E6: 139.98 | F6: 139.98 | G6: 149.98 | H6: 159.98 | I6: 169.98 | J6: 169.98 | K6: 169.98 | M6: 0.2 | N6: 59.99 | O6: 69.98 | P6: 69.98 | Q6: 69.98 | R6: 69.98 | S6: 74.98 | T6: 79.98 | U6: 84.98 | V6: 84.98 | W6: 84.98
A7: 0.4 | B7: 159.98 | C7: 159.98 | D7: 169.98 | E7: 169.98 | F7: 169.98 | G7: 199.98 | H7: 199.98 | I7: 209.98 | J7: 209.98 | K7: 209.98 | M7: 0.4 | N7: 79.98 | O7: 79.98 | P7: 84.98 | Q7: 84.98 | R7: 84.98 | S7: 84.98 | T7: 99.98 | U7: 99.98 | V7: 104.98 | W7: 104.98
A8: 0.6 | B8: 169.98 | C8: 169.98 | D8: 169.98 | E8: 169.98 | F8: 179.98 | G8: 209.98 | H8: 209.98 | I8: 209.98 | J8: 209.98 | K8: 209.98 | M8: 0.6 | N8: 84.98 | O8: 84.98 | P8: 84.98 | Q8: 84.98 | R8: 89.98 | S8: 89.98 | T8: 104.98 | U8: 104.98 | V8: 104.98 | W8: 104.98
A9: 0.8 | B9: 169.98 | C9: 169.98 | D9: 169.98 | E9: 179.98 | F9: 179.98 | G9: 209.98 | H9: 209.98 | I9: 209.98 | J9: 209.98 | K9: 209.98 | M9: 0.8 | N9: 84.98 | O9: 84.98 | P9: 84.98 | Q9: 89.98 | R9: 89.98 | S9: 89.98 | T9: 104.98 | U9: 104.98 | V9: 104.98 | W9: 104.98
A10: 1 | B10: 169.98 | C10: 169.98 | D10: 169.98 | E10: 169.98 | F10: 169.98 | G10: 209.98 | H10: 209.98 | I10: 209.98 | J10: 209.98 | K10: 209.98 | M10: 1 | N10: 84.98 | O10: 84.98 | P10: 84.98 | Q10: 84.98 | R10: 84.98 | S10: 89.98 | T10: 104.98 | U10: 104.98 | V10: 104.98 | W10: 104.98
A11: 1.5 | B11: 199.98 | C11: 199.98 | D11: 199.98 | E11: 209.98 | F11: 209.98 | G11: 259.98 | H11: 259.98 | I11: 259.98 | J11: 259.98 | K11: 269.98 | M11: 1.5 | N11: 99.98 | O11: 99.98 | P11: 99.98 | Q11: 104.98 | R11: 104.98 | S11: 104.98 | T11: 129.98 | U11: 129.98 | V11: 129.98 | W11: 134.98
A12: 2 | B12: 209.98 | C12: 209.98 | D12: 209.98 | E12: 219.98 | F12: 219.98 | G12: 269.98 | H12: 269.98 | I12: 269.98 | J12: 269.98 | K12: 269.98 | M12: 2 | N12: 104.98 | O12: 104.98 | P12: 104.98 | Q12: 109.98 | R12: 109.98 | S12: 109.98 | T12: 134.98 | U12: 134.98 | V12: 134.98 | W12: 134.98
A13: 2.5 | B13: 229.98 | C13: 229.98 | D13: 239.98 | E13: 239.98 | F13: 239.98 | G13: 239.98 | H13: 299.98 | I13: 299.98 | J13: 309.98 | K13: 309.98 | M13: 2.5 | N13: 114.98 | O13: 114.98 | P13: 119.98 | Q13: 119.98 | R13: 119.98 | S13: 119.98 | T13: 149.98 | U13: 149.98 | V13: 154.98 | W13: 154.98
A14: 3 | B14: 249.98 | C14: 249.98 | D14: 259.98 | E14: 259.98 | F14: 259.98 | G14: 269.98 | H14: 349.98 | I14: 359.98 | J14: 359.98 | K14: 369.98 | M14: 3 | N14: 124.98 | O14: 124.98 | P14: 129.98 | Q14: 129.98 | R14: 129.98 | S14: 134.98 | T14: 174.98 | U14: 179.98 | V14: 179.98 | W14: 184.98
A15: 3.5 | B15: 269.98 | C15: 279.98 | D15: 279.98 | E15: 289.98 | F15: 289.98 | G15: 299.98 | H15: 409.98 | I15: 409.98 | J15: 419.98 | K15: 429.98 | M15: 3.5 | N15: 134.98 | O15: 139.98 | P15: 139.98 | Q15: 144.98 | R15: 144.98 | S15: 149.98 | T15: 204.98 | U15: 204.98 | V15: 209.98 | W15: 214.98
A17: Przykład: pralka 60×65×90 cm i 70 kg = 0,351 m³. Kalkulator wybiera próg do 0,4 m³ / do 75 kg Smart!: 84,98 zł brutto poza Smart!: 169,98 zł brutto
A22: Regulamin obejmuje także przesyłki wielopaczkowe i mixy paczek/palet: sumuje się rzeczywistą wagę i objętość wszystkich jednostek wraz z opakowaniem. Tabela cenowa nie oznacza automatycznej akceptacji przesyłki — obowiązują również limity wymiarów i masy w zakładce ZASADY.

Sheet CENNIK PALETY
A1: Cennik palety Heavy & Bulky — kwoty brutto
A2: Standard = baza 119,99 zł brutto + regulaminowa dopłata. Smart! = stawka wewnętrzna. Wiersze wagowe są progami „do”.
A4: poza Smart! brutto | Q4: Smart! brutto
A5: Typ palety | B5: Rozmiar | C5: Maks. kg | D5: 60 | E5: 100 | F5: 150 | G5: 200 | H5: 250 | I5: 300 | J5: 400 | K5: 500 | L5: 600 | M5: 700 | N5: 800 | O5: 1000 | Q5: Typ palety | R5: Rozmiar | S5: Maks. kg | T5: 60 | U5: 100 | V5: 150 | W5: 200 | X5: 250 | Y5: 300 | Z5: 400 | AA5: 500 | AB5: 600 | AC5: 700 | AD5: 800 | AE5: 1000
A6: HP (półpaleta) | B6: 80x60 | C6: 500 | D6: 119.99 | E6: 129.98 | F6: 129.98 | G6: 139.98 | H6: 139.98 | I6: 149.98 | J6: 149.98 | K6: 149.98 | Q6: HP (półpaleta) | R6: 80x60 | S6: 500 | T6: 59.99 | U6: 64.98 | V6: 64.98 | W6: 69.98 | X6: 69.98 | Y6: 74.98 | Z6: 74.98 | AA6: 74.98
A7: EUR (paleta) | B7: 120x80 | C7: 1000 | D7: 179.98 | E7: 179.98 | F7: 179.98 | G7: 179.98 | H7: 179.98 | I7: 179.98 | J7: 179.98 | K7: 189.98 | L7: 189.98 | M7: 219.98 | N7: 219.98 | O7: 239.98 | Q7: EUR (paleta) | R7: 120x80 | S7: 1000 | T7: 89.98 | U7: 89.98 | V7: 89.98 | W7: 89.98 | X7: 89.98 | Y7: 89.98 | Z7: 89.98 | AA7: 94.98 | AB7: 94.98 | AC7: 109.98 | AD7: 109.98 | AE7: 119.98
A8: IP (paleta przemysłowa) | B8: 100x120 | C8: 1000 | D8: 209.98 | E8: 209.98 | F8: 209.98 | G8: 209.98 | H8: 209.98 | I8: 209.98 | J8: 219.98 | K8: 219.98 | L8: 219.98 | M8: 249.98 | N8: 249.98 | O8: 269.98 | Q8: IP (paleta przemysłowa) | R8: 100x120* | S8: 1000 | T8: 104.98 | U8: 104.98 | V8: 104.98 | W8: 104.98 | X8: 104.98 | Y8: 104.98 | Z8: 109.98 | AA8: 109.98 | AB8: 109.98 | AC8: 124.98 | AD8: 124.98 | AE8: 134.98
A9: IP XL (paleta przemysłowa) | B9: 120x120 | C9: 1000 | D9: 259.98 | E9: 259.98 | F9: 329.98 | G9: 329.98 | H9: 329.98 | I9: 329.98 | J9: 329.98 | K9: 339.98 | L9: 339.98 | M9: 349.98 | N9: 349.98 | O9: 379.98 | Q9: IP XL (paleta przemysłowa) | R9: 120x120 | S9: 1000 | T9: 129.98 | U9: 129.98 | V9: 164.98 | W9: 164.98 | X9: 164.98 | Y9: 164.98 | Z9: 164.98 | AA9: 169.98 | AB9: 169.98 | AC9: 174.98 | AD9: 174.98 | AE9: 189.98
A10: LP (paleta long) | B10: 150x80 | C10: 700 | D10: 249.98 | E10: 249.98 | F10: 299.98 | G10: 299.98 | H10: 309.98 | I10: 309.98 | J10: 319.98 | K10: 319.98 | L10: 329.98 | M10: 329.98 | Q10: LP (paleta long) | R10: 150x80 | S10: 700 | T10: 124.98 | U10: 124.98 | V10: 149.98 | W10: 149.98 | X10: 154.98 | Y10: 154.98 | Z10: 159.98 | AA10: 159.98 | AB10: 164.98 | AC10: 164.98
A11: LP XL (paleta long) | B11: 200x80 | C11: 700 | D11: 279.98 | E11: 279.98 | F11: 349.98 | G11: 349.98 | H11: 359.98 | I11: 359.98 | J11: 359.98 | K11: 359.98 | L11: 369.98 | M11: 369.98 | Q11: LP XL (paleta long) | R11: 200x80 | S11: 700 | T11: 139.98 | U11: 139.98 | V11: 174.98 | W11: 174.98 | X11: 179.98 | Y11: 179.98 | Z11: 179.98 | AA11: 179.98 | AB11: 184.98 | AC11: 184.98

Sheet ZASADY
A1: ZASADY REGULAMINU — skrót dla Partnera
A2: Źródło: Zmiany w regulaminie Allegro od 30.09.2026 r., Załącznik nr 4, art. 15 ust. 8.
A4: Paczka wielopaczkowa | B4: Zsumuj rzeczywiste wagi i objętości wszystkich paczek/palet wraz z opakowaniem i na ich podstawie wyznaczaj progi wagowe i objętościowe.
A5: Przesyłka podatna na przeładunek mechaniczny | B5: Maks. 168 kg na jednostkę; maks. wysokość wg opisu limitu: 215 cm.
A6: Przesyłka niepodatna na przeładunek mechaniczny | B6: Maks. 50 kg na przesyłkę; maks. długość 230 cm.
A7: Automotive | B7: Maks. 30 kg dla przesyłki niepodatnej na przeładunek mechaniczny.
A8: Paleta - ogólnie | B8: Maks. wysokość 215 cm; najdłuższy bok 240 cm; towar nie może wystawać poza obrys.
A9: Paleta - masa | B9: Maksymalna waga jednostki w nadaniu to 750 kg.
A10: Przesyłka drobnicowa | B10: Maksymalna łączna masa brutto 5000 kg.
A11: Maksymalna liczba palet | B11: Maks. 10 palet 800×1200 mm lub 6 palet 1000×1200 mm.
A12: Smart! | B12: Opłaty Smart! są opłatami wynikającymi z promocji
